Package: ncdfFlow Version: 2.48.0 Command: rm -rf ncdfFlow.buildbin-libdir && mkdir ncdfFlow.buildbin-libdir && /Users/biocbuild/BBS/utils/build-universal.sh ncdfFlow_2.48.0.tar.gz /Library/Frameworks/R.framework/Resources/bin/R ncdfFlow.buildbin-libdir StartedAt: 2024-04-18 10:21:50 -0400 (Thu, 18 Apr 2024) EndedAt: 2024-04-18 10:22:12 -0400 (Thu, 18 Apr 2024) EllapsedTime: 21.7 seconds RetCode: 0 Status: OK PackageFile: ncdfFlow_2.48.0.tgz PackageFileSize: 1.759 MiB