Package: ncGTW Version: 1.16.0 Command: /Library/Frameworks/R.framework/Resources/bin/R CMD check --install=check:ncGTW.install-out.txt --library=/Library/Frameworks/R.framework/Resources/library --no-vignettes --timings ncGTW_1.16.0.tar.gz StartedAt: 2024-04-17 21:14:49 -0400 (Wed, 17 Apr 2024) EndedAt: 2024-04-17 21:24:41 -0400 (Wed, 17 Apr 2024) EllapsedTime: 592.0 seconds RetCode: 0 Status: OK CheckDir: ncGTW.Rcheck Warnings: 0