Package: mzR Version: 2.36.0 Command: /Library/Frameworks/R.framework/Resources/bin/R CMD INSTALL mzR StartedAt: 2024-04-16 10:10:43 -0400 (Tue, 16 Apr 2024) EndedAt: 2024-04-16 10:18:27 -0400 (Tue, 16 Apr 2024) EllapsedTime: 464.0 seconds RetCode: 0 Status: OK