Package: mzR Version: 2.36.0 Command: /Library/Frameworks/R.framework/Resources/bin/R CMD check --install=check:mzR.install-out.txt --library=/Library/Frameworks/R.framework/Resources/library --no-vignettes --timings mzR_2.36.0.tar.gz StartedAt: 2024-04-17 21:06:08 -0400 (Wed, 17 Apr 2024) EndedAt: 2024-04-17 21:08:09 -0400 (Wed, 17 Apr 2024) EllapsedTime: 121.0 seconds RetCode: 0 Status: WARNINGS CheckDir: mzR.Rcheck Warnings: 2