Package: multtest Version: 2.58.0 Command: /Library/Frameworks/R.framework/Resources/bin/R CMD build --keep-empty-dirs --no-resave-data multtest StartedAt: 2024-04-16 22:33:59 -0400 (Tue, 16 Apr 2024) EndedAt: 2024-04-16 22:34:01 -0400 (Tue, 16 Apr 2024) EllapsedTime: 2.2 seconds RetCode: 0 Status: OK PackageFile: multtest_2.58.0.tar.gz PackageFileSize: 1.235 MiB