Package: multtest Version: 2.58.0 Command: rm -rf multtest.buildbin-libdir && mkdir multtest.buildbin-libdir && /Users/biocbuild/BBS/utils/build-universal.sh multtest_2.58.0.tar.gz /Library/Frameworks/R.framework/Resources/bin/R multtest.buildbin-libdir StartedAt: 2024-04-18 10:19:26 -0400 (Thu, 18 Apr 2024) EndedAt: 2024-04-18 10:19:49 -0400 (Thu, 18 Apr 2024) EllapsedTime: 22.7 seconds RetCode: 0 Status: OK PackageFile: multtest_2.58.0.tgz PackageFileSize: 825.8 KiB