Package: multiscan Version: 1.62.0 Command: /Library/Frameworks/R.framework/Resources/bin/R CMD INSTALL multiscan StartedAt: 2024-04-16 10:03:42 -0400 (Tue, 16 Apr 2024) EndedAt: 2024-04-16 10:03:47 -0400 (Tue, 16 Apr 2024) EllapsedTime: 4.8 seconds RetCode: 0 Status: OK