Package: multiscan Version: 1.62.0 Command: rm -rf multiscan.buildbin-libdir && mkdir multiscan.buildbin-libdir && /Users/biocbuild/BBS/utils/build-universal.sh multiscan_1.62.0.tar.gz /Library/Frameworks/R.framework/Resources/bin/R multiscan.buildbin-libdir StartedAt: 2024-04-18 10:19:09 -0400 (Thu, 18 Apr 2024) EndedAt: 2024-04-18 10:19:18 -0400 (Thu, 18 Apr 2024) EllapsedTime: 9.1 seconds RetCode: 0 Status: OK PackageFile: multiscan_1.62.0.tgz PackageFileSize: 778 KiB