Package: msqrob2 Version: 1.10.0 Command: /Library/Frameworks/R.framework/Resources/bin/R CMD check --install=check:msqrob2.install-out.txt --library=/Library/Frameworks/R.framework/Resources/library --no-vignettes --timings msqrob2_1.10.0.tar.gz StartedAt: 2024-04-17 20:37:13 -0400 (Wed, 17 Apr 2024) EndedAt: 2024-04-17 20:42:07 -0400 (Wed, 17 Apr 2024) EllapsedTime: 293.4 seconds RetCode: 0 Status: OK CheckDir: msqrob2.Rcheck Warnings: 0