Package: msqrob2 Version: 1.10.0 Command: rm -rf msqrob2.buildbin-libdir && mkdir msqrob2.buildbin-libdir && /Users/biocbuild/BBS/utils/build-universal.sh msqrob2_1.10.0.tar.gz /Library/Frameworks/R.framework/Resources/bin/R msqrob2.buildbin-libdir StartedAt: 2024-04-18 10:16:31 -0400 (Thu, 18 Apr 2024) EndedAt: 2024-04-18 10:17:18 -0400 (Thu, 18 Apr 2024) EllapsedTime: 46.9 seconds RetCode: 0 Status: OK PackageFile: msqrob2_1.10.0.tgz PackageFileSize: 2.665 MiB