Package: msmsTests Version: 1.40.0 Command: rm -rf msmsTests.buildbin-libdir && mkdir msmsTests.buildbin-libdir && /Users/biocbuild/BBS/utils/build-universal.sh msmsTests_1.40.0.tar.gz /Library/Frameworks/R.framework/Resources/bin/R msmsTests.buildbin-libdir StartedAt: 2024-04-18 10:16:03 -0400 (Thu, 18 Apr 2024) EndedAt: 2024-04-18 10:16:28 -0400 (Thu, 18 Apr 2024) EllapsedTime: 25.2 seconds RetCode: 0 Status: OK PackageFile: msmsTests_1.40.0.tgz PackageFileSize: 581.8 KiB