Package: msmsEDA Version: 1.40.0 Command: /Library/Frameworks/R.framework/Resources/bin/R CMD INSTALL msmsEDA StartedAt: 2024-04-16 11:03:09 -0400 (Tue, 16 Apr 2024) EndedAt: 2024-04-16 11:03:29 -0400 (Tue, 16 Apr 2024) EllapsedTime: 19.6 seconds RetCode: 0 Status: OK