Package: mslp Version: 1.4.0 Command: /Library/Frameworks/R.framework/Resources/bin/R CMD check --install=check:mslp.install-out.txt --library=/Library/Frameworks/R.framework/Resources/library --no-vignettes --timings mslp_1.4.0.tar.gz StartedAt: 2024-04-17 20:32:27 -0400 (Wed, 17 Apr 2024) EndedAt: 2024-04-17 20:33:55 -0400 (Wed, 17 Apr 2024) EllapsedTime: 88.8 seconds RetCode: 1 Status: ERROR CheckDir: mslp.Rcheck Warnings: NA