Package: msa Version: 1.34.0 Command: /Library/Frameworks/R.framework/Resources/bin/R CMD build --keep-empty-dirs --no-resave-data msa StartedAt: 2024-04-16 22:18:40 -0400 (Tue, 16 Apr 2024) EndedAt: 2024-04-16 22:25:52 -0400 (Tue, 16 Apr 2024) EllapsedTime: 431.4 seconds RetCode: 0 Status: OK PackageFile: msa_1.34.0.tar.gz PackageFileSize: 4.006 MiB