Package: mitch Version: 1.14.0 Command: rm -rf mitch.buildbin-libdir && mkdir mitch.buildbin-libdir && /Users/biocbuild/BBS/utils/build-universal.sh mitch_1.14.0.tar.gz /Library/Frameworks/R.framework/Resources/bin/R mitch.buildbin-libdir StartedAt: 2024-04-18 10:09:44 -0400 (Thu, 18 Apr 2024) EndedAt: 2024-04-18 10:09:55 -0400 (Thu, 18 Apr 2024) EllapsedTime: 11.4 seconds RetCode: 0 Status: OK PackageFile: mitch_1.14.0.tgz PackageFileSize: 522.3 KiB