Package: mistyR Version: 1.10.0 Command: /Library/Frameworks/R.framework/Resources/bin/R CMD check --install=check:mistyR.install-out.txt --library=/Library/Frameworks/R.framework/Resources/library --no-vignettes --timings mistyR_1.10.0.tar.gz StartedAt: 2024-04-17 19:48:55 -0400 (Wed, 17 Apr 2024) EndedAt: 2024-04-17 19:55:07 -0400 (Wed, 17 Apr 2024) EllapsedTime: 371.3 seconds RetCode: 1 Status: ERROR CheckDir: mistyR.Rcheck Warnings: NA