Package: mirTarRnaSeq Version: 1.10.0 Command: /Library/Frameworks/R.framework/Resources/bin/R CMD build --keep-empty-dirs --no-resave-data mirTarRnaSeq StartedAt: 2024-04-16 21:53:47 -0400 (Tue, 16 Apr 2024) EndedAt: 2024-04-16 21:57:17 -0400 (Tue, 16 Apr 2024) EllapsedTime: 209.8 seconds RetCode: 0 Status: OK PackageFile: mirTarRnaSeq_1.10.0.tar.gz PackageFileSize: 3.426 MiB