Package: mirTarRnaSeq Version: 1.10.0 Command: rm -rf mirTarRnaSeq.buildbin-libdir && mkdir mirTarRnaSeq.buildbin-libdir && /Users/biocbuild/BBS/utils/build-universal.sh mirTarRnaSeq_1.10.0.tar.gz /Library/Frameworks/R.framework/Resources/bin/R mirTarRnaSeq.buildbin-libdir StartedAt: 2024-04-18 10:09:28 -0400 (Thu, 18 Apr 2024) EndedAt: 2024-04-18 10:09:43 -0400 (Thu, 18 Apr 2024) EllapsedTime: 15.9 seconds RetCode: 0 Status: OK PackageFile: mirTarRnaSeq_1.10.0.tgz PackageFileSize: 4.642 MiB