Package: minet Version: 3.60.0 Command: /Library/Frameworks/R.framework/Resources/bin/R CMD build --keep-empty-dirs --no-resave-data minet StartedAt: 2024-04-16 21:49:03 -0400 (Tue, 16 Apr 2024) EndedAt: 2024-04-16 21:49:04 -0400 (Tue, 16 Apr 2024) EllapsedTime: 1.2 seconds RetCode: 0 Status: OK PackageFile: minet_3.60.0.tar.gz PackageFileSize: 50.14 KiB