Package: minet Version: 3.60.0 Command: rm -rf minet.buildbin-libdir && mkdir minet.buildbin-libdir && /Users/biocbuild/BBS/utils/build-universal.sh minet_3.60.0.tar.gz /Library/Frameworks/R.framework/Resources/bin/R minet.buildbin-libdir StartedAt: 2024-04-18 10:08:02 -0400 (Thu, 18 Apr 2024) EndedAt: 2024-04-18 10:08:12 -0400 (Thu, 18 Apr 2024) EllapsedTime: 10.3 seconds RetCode: 0 Status: OK PackageFile: minet_3.60.0.tgz PackageFileSize: 92.51 KiB