Package: miaViz Version: 1.10.0 Command: /Library/Frameworks/R.framework/Resources/bin/R CMD build --keep-empty-dirs --no-resave-data miaViz StartedAt: 2024-04-16 21:42:46 -0400 (Tue, 16 Apr 2024) EndedAt: 2024-04-16 21:44:54 -0400 (Tue, 16 Apr 2024) EllapsedTime: 127.8 seconds RetCode: 0 Status: OK PackageFile: miaViz_1.10.0.tar.gz PackageFileSize: 2.61 MiB