Package: miRcomp Version: 1.32.0 Command: rm -rf miRcomp.buildbin-libdir && mkdir miRcomp.buildbin-libdir && /Users/biocbuild/BBS/utils/build-universal.sh miRcomp_1.32.0.tar.gz /Library/Frameworks/R.framework/Resources/bin/R miRcomp.buildbin-libdir StartedAt: 2024-04-18 10:08:34 -0400 (Thu, 18 Apr 2024) EndedAt: 2024-04-18 10:08:42 -0400 (Thu, 18 Apr 2024) EllapsedTime: 8.0 seconds RetCode: 0 Status: OK PackageFile: miRcomp_1.32.0.tgz PackageFileSize: 3.351 MiB