Package: miRNApath Version: 1.62.0 Command: /Library/Frameworks/R.framework/Resources/bin/R CMD INSTALL miRNApath StartedAt: 2024-04-16 10:02:13 -0400 (Tue, 16 Apr 2024) EndedAt: 2024-04-16 10:02:17 -0400 (Tue, 16 Apr 2024) EllapsedTime: 3.8 seconds RetCode: 0 Status: OK