Package: mgsa Version: 1.50.0 Command: /Library/Frameworks/R.framework/Resources/bin/R CMD build --keep-empty-dirs --no-resave-data mgsa StartedAt: 2024-04-16 21:42:20 -0400 (Tue, 16 Apr 2024) EndedAt: 2024-04-16 21:42:40 -0400 (Tue, 16 Apr 2024) EllapsedTime: 20.0 seconds RetCode: 0 Status: OK PackageFile: mgsa_1.50.0.tar.gz PackageFileSize: 395.3 KiB