Package: mgsa Version: 1.50.0 Command: rm -rf mgsa.buildbin-libdir && mkdir mgsa.buildbin-libdir && /Users/biocbuild/BBS/utils/build-universal.sh mgsa_1.50.0.tar.gz /Library/Frameworks/R.framework/Resources/bin/R mgsa.buildbin-libdir StartedAt: 2024-04-18 10:06:07 -0400 (Thu, 18 Apr 2024) EndedAt: 2024-04-18 10:06:23 -0400 (Thu, 18 Apr 2024) EllapsedTime: 15.6 seconds RetCode: 0 Status: OK PackageFile: mgsa_1.50.0.tgz PackageFileSize: 537.7 KiB