Package: methylumi Version: 2.48.0 Command: /Library/Frameworks/R.framework/Resources/bin/R CMD check --install=check:methylumi.install-out.txt --library=/Library/Frameworks/R.framework/Resources/library --no-vignettes --timings methylumi_2.48.0.tar.gz StartedAt: 2024-04-17 19:13:16 -0400 (Wed, 17 Apr 2024) EndedAt: 2024-04-17 19:20:12 -0400 (Wed, 17 Apr 2024) EllapsedTime: 415.8 seconds RetCode: 0 Status: OK CheckDir: methylumi.Rcheck Warnings: 0