Package: methylKit Version: 1.28.0 Command: /Library/Frameworks/R.framework/Resources/bin/R CMD check --install=check:methylKit.install-out.txt --library=/Library/Frameworks/R.framework/Resources/library --no-vignettes --timings methylKit_1.28.0.tar.gz StartedAt: 2024-04-17 19:04:57 -0400 (Wed, 17 Apr 2024) EndedAt: 2024-04-17 19:11:51 -0400 (Wed, 17 Apr 2024) EllapsedTime: 413.4 seconds RetCode: 0 Status: WARNINGS CheckDir: methylKit.Rcheck Warnings: 1