Package: methylKit Version: 1.28.0 Command: rm -rf methylKit.buildbin-libdir && mkdir methylKit.buildbin-libdir && /Users/biocbuild/BBS/utils/build-universal.sh methylKit_1.28.0.tar.gz /Library/Frameworks/R.framework/Resources/bin/R methylKit.buildbin-libdir StartedAt: 2024-04-18 10:04:10 -0400 (Thu, 18 Apr 2024) EndedAt: 2024-04-18 10:05:39 -0400 (Thu, 18 Apr 2024) EllapsedTime: 88.7 seconds RetCode: 0 Status: OK PackageFile: methylKit_1.28.0.tgz PackageFileSize: 2.839 MiB