Package: methylGSA Version: 1.20.0 Command: /Library/Frameworks/R.framework/Resources/bin/R CMD INSTALL methylGSA StartedAt: 2024-04-16 12:48:43 -0400 (Tue, 16 Apr 2024) EndedAt: 2024-04-16 12:49:49 -0400 (Tue, 16 Apr 2024) EllapsedTime: 65.6 seconds RetCode: 0 Status: OK