Package: metapod Version: 1.10.1 Command: rm -rf metapod.buildbin-libdir && mkdir metapod.buildbin-libdir && /Users/biocbuild/BBS/utils/build-universal.sh metapod_1.10.1.tar.gz /Library/Frameworks/R.framework/Resources/bin/R metapod.buildbin-libdir StartedAt: 2024-04-18 10:01:51 -0400 (Thu, 18 Apr 2024) EndedAt: 2024-04-18 10:02:28 -0400 (Thu, 18 Apr 2024) EllapsedTime: 37.3 seconds RetCode: 0 Status: OK PackageFile: metapod_1.10.1.tgz PackageFileSize: 481.8 KiB