Package: metabinR Version: 1.4.0 Maintainer: Anestis Gkanogiannis MaintainerEmail: anestis at gkanogiannis.com git_url: https://git.bioconductor.org/packages/metabinR git_branch: RELEASE_3_18 git_last_commit: 34665b4 git_last_commit_date: 2023-10-24 11:45:27 -0400 (Tue, 24 Oct 2023)