Package: messina Version: 1.38.0 Command: rm -rf messina.buildbin-libdir && mkdir messina.buildbin-libdir && /Users/biocbuild/BBS/utils/build-universal.sh messina_1.38.0.tar.gz /Library/Frameworks/R.framework/Resources/bin/R messina.buildbin-libdir StartedAt: 2024-04-18 10:00:30 -0400 (Thu, 18 Apr 2024) EndedAt: 2024-04-18 10:01:07 -0400 (Thu, 18 Apr 2024) EllapsedTime: 37.6 seconds RetCode: 0 Status: OK PackageFile: messina_1.38.0.tgz PackageFileSize: 531 KiB