Package: massiR Version: 1.38.0 Command: /Library/Frameworks/R.framework/Resources/bin/R CMD INSTALL massiR StartedAt: 2024-04-16 10:07:36 -0400 (Tue, 16 Apr 2024) EndedAt: 2024-04-16 10:07:41 -0400 (Tue, 16 Apr 2024) EllapsedTime: 4.7 seconds RetCode: 0 Status: OK