Package: maskBAD Version: 1.46.0 Maintainer: Michael Dannemann MaintainerEmail: michael_dannemann at eva.mpg.de git_url: https://git.bioconductor.org/packages/maskBAD git_branch: RELEASE_3_18 git_last_commit: b0b9d7e git_last_commit_date: 2023-10-24 09:49:03 -0400 (Tue, 24 Oct 2023)