Package: mariner Version: 1.2.0 Command: /Library/Frameworks/R.framework/Resources/bin/R CMD check --install=check:mariner.install-out.txt --library=/Library/Frameworks/R.framework/Resources/library --no-vignettes --timings mariner_1.2.0.tar.gz StartedAt: 2024-04-17 18:12:59 -0400 (Wed, 17 Apr 2024) EndedAt: 2024-04-17 18:24:47 -0400 (Wed, 17 Apr 2024) EllapsedTime: 708.1 seconds RetCode: 0 Status: OK CheckDir: mariner.Rcheck Warnings: 0