Package: makecdfenv Version: 1.78.0 Command: rm -rf makecdfenv.buildbin-libdir && mkdir makecdfenv.buildbin-libdir && /Users/biocbuild/BBS/utils/build-universal.sh makecdfenv_1.78.0.tar.gz /Library/Frameworks/R.framework/Resources/bin/R makecdfenv.buildbin-libdir StartedAt: 2024-04-18 09:55:56 -0400 (Thu, 18 Apr 2024) EndedAt: 2024-04-18 09:56:12 -0400 (Thu, 18 Apr 2024) EllapsedTime: 15.6 seconds RetCode: 0 Status: OK PackageFile: makecdfenv_1.78.0.tgz PackageFileSize: 3.418 MiB