Package: maigesPack Version: 1.66.0 Command: rm -rf maigesPack.buildbin-libdir && mkdir maigesPack.buildbin-libdir && /Users/biocbuild/BBS/utils/build-universal.sh maigesPack_1.66.0.tar.gz /Library/Frameworks/R.framework/Resources/bin/R maigesPack.buildbin-libdir StartedAt: 2024-04-18 09:55:26 -0400 (Thu, 18 Apr 2024) EndedAt: 2024-04-18 09:55:46 -0400 (Thu, 18 Apr 2024) EllapsedTime: 20.4 seconds RetCode: 0 Status: OK PackageFile: maigesPack_1.66.0.tgz PackageFileSize: 1.649 MiB