Package: maSigPro Version: 1.74.0 Command: /Library/Frameworks/R.framework/Resources/bin/R CMD check --install=check:maSigPro.install-out.txt --library=/Library/Frameworks/R.framework/Resources/library --no-vignettes --timings maSigPro_1.74.0.tar.gz StartedAt: 2024-04-17 18:17:06 -0400 (Wed, 17 Apr 2024) EndedAt: 2024-04-17 18:19:43 -0400 (Wed, 17 Apr 2024) EllapsedTime: 157.3 seconds RetCode: 0 Status: OK CheckDir: maSigPro.Rcheck Warnings: 0