Package: lumi Version: 2.54.0 Command: /Library/Frameworks/R.framework/Resources/bin/R CMD check --install=check:lumi.install-out.txt --library=/Library/Frameworks/R.framework/Resources/library --no-vignettes --timings lumi_2.54.0.tar.gz StartedAt: 2024-04-17 17:57:02 -0400 (Wed, 17 Apr 2024) EndedAt: 2024-04-17 18:06:11 -0400 (Wed, 17 Apr 2024) EllapsedTime: 549.1 seconds RetCode: 0 Status: WARNINGS CheckDir: lumi.Rcheck Warnings: 3