Package: lumi Version: 2.54.0 Command: /Library/Frameworks/R.framework/Resources/bin/R CMD build --keep-empty-dirs --no-resave-data lumi StartedAt: 2024-04-16 20:53:24 -0400 (Tue, 16 Apr 2024) EndedAt: 2024-04-16 20:53:26 -0400 (Tue, 16 Apr 2024) EllapsedTime: 2.3 seconds RetCode: 0 Status: OK PackageFile: lumi_2.54.0.tar.gz PackageFileSize: 8.033 MiB