Package: loci2path Version: 1.22.0 Command: rm -rf loci2path.buildbin-libdir && mkdir loci2path.buildbin-libdir && /Users/biocbuild/BBS/utils/build-universal.sh loci2path_1.22.0.tar.gz /Library/Frameworks/R.framework/Resources/bin/R loci2path.buildbin-libdir StartedAt: 2024-04-18 09:53:15 -0400 (Thu, 18 Apr 2024) EndedAt: 2024-04-18 09:53:35 -0400 (Thu, 18 Apr 2024) EllapsedTime: 19.5 seconds RetCode: 0 Status: OK PackageFile: loci2path_1.22.0.tgz PackageFileSize: 810 KiB