Package: limmaGUI Version: 1.78.0 Command: /Library/Frameworks/R.framework/Resources/bin/R CMD INSTALL limmaGUI StartedAt: 2024-04-16 10:11:15 -0400 (Tue, 16 Apr 2024) EndedAt: 2024-04-16 10:11:32 -0400 (Tue, 16 Apr 2024) EllapsedTime: 16.9 seconds RetCode: 0 Status: OK