Package: limma Version: 3.58.1 Command: /Library/Frameworks/R.framework/Resources/bin/R CMD check --install=check:limma.install-out.txt --library=/Library/Frameworks/R.framework/Resources/library --no-vignettes --timings limma_3.58.1.tar.gz StartedAt: 2024-04-17 17:48:05 -0400 (Wed, 17 Apr 2024) EndedAt: 2024-04-17 17:49:43 -0400 (Wed, 17 Apr 2024) EllapsedTime: 98.0 seconds RetCode: 0 Status: OK CheckDir: limma.Rcheck Warnings: 0