Package: lemur Version: 1.0.5 Command: /Library/Frameworks/R.framework/Resources/bin/R CMD build --keep-empty-dirs --no-resave-data lemur StartedAt: 2024-04-16 20:46:42 -0400 (Tue, 16 Apr 2024) EndedAt: 2024-04-16 20:47:56 -0400 (Tue, 16 Apr 2024) EllapsedTime: 74.0 seconds RetCode: 1 Status: ERROR PackageFile: None PackageFileSize: NA