Package: lemur Version: 1.0.5 Command: rm -rf lemur.buildbin-libdir && mkdir lemur.buildbin-libdir && /Users/biocbuild/BBS/utils/build-universal.sh lemur_1.0.5.tar.gz /Library/Frameworks/R.framework/Resources/bin/R lemur.buildbin-libdir StartedAt: 2024-03-07 09:11:00 -0500 (Thu, 07 Mar 2024) EndedAt: 2024-03-07 09:11:58 -0500 (Thu, 07 Mar 2024) EllapsedTime: 58.3 seconds RetCode: 0 Status: OK PackageFile: lemur_1.0.5.tgz PackageFileSize: 3.619 MiB