Package: ldblock Version: 1.32.0 Command: /Library/Frameworks/R.framework/Resources/bin/R CMD build --keep-empty-dirs --no-resave-data ldblock StartedAt: 2024-04-16 20:45:22 -0400 (Tue, 16 Apr 2024) EndedAt: 2024-04-16 20:46:33 -0400 (Tue, 16 Apr 2024) EllapsedTime: 70.3 seconds RetCode: 0 Status: OK PackageFile: ldblock_1.32.0.tar.gz PackageFileSize: 40.24 MiB