Package: lapmix Version: 1.68.0 Command: /Library/Frameworks/R.framework/Resources/bin/R CMD INSTALL lapmix StartedAt: 2024-04-16 10:12:26 -0400 (Tue, 16 Apr 2024) EndedAt: 2024-04-16 10:12:31 -0400 (Tue, 16 Apr 2024) EllapsedTime: 4.6 seconds RetCode: 0 Status: OK