Package: keggorthology Version: 2.54.0 Command: /Library/Frameworks/R.framework/Resources/bin/R CMD check --install=check:keggorthology.install-out.txt --library=/Library/Frameworks/R.framework/Resources/library --no-vignettes --timings keggorthology_2.54.0.tar.gz StartedAt: 2024-04-17 17:41:10 -0400 (Wed, 17 Apr 2024) EndedAt: 2024-04-17 17:43:05 -0400 (Wed, 17 Apr 2024) EllapsedTime: 115.3 seconds RetCode: 0 Status: OK CheckDir: keggorthology.Rcheck Warnings: 0