Package: kebabs Version: 1.36.0 Command: rm -rf kebabs.buildbin-libdir && mkdir kebabs.buildbin-libdir && /Users/biocbuild/BBS/utils/build-universal.sh kebabs_1.36.0.tar.gz /Library/Frameworks/R.framework/Resources/bin/R kebabs.buildbin-libdir StartedAt: 2024-04-18 09:50:52 -0400 (Thu, 18 Apr 2024) EndedAt: 2024-04-18 09:52:59 -0400 (Thu, 18 Apr 2024) EllapsedTime: 127.6 seconds RetCode: 0 Status: OK PackageFile: kebabs_1.36.0.tgz PackageFileSize: 3.688 MiB