Package: katdetectr Version: 1.4.0 Command: /Library/Frameworks/R.framework/Resources/bin/R CMD INSTALL katdetectr StartedAt: 2024-04-16 12:15:57 -0400 (Tue, 16 Apr 2024) EndedAt: 2024-04-16 12:16:50 -0400 (Tue, 16 Apr 2024) EllapsedTime: 53.3 seconds RetCode: 0 Status: OK